BEGIN:VCALENDAR
VERSION:2.0
PRODID:-//West Asheville Yoga - ECPv6.9.0//NONSGML v1.0//EN
CALSCALE:GREGORIAN
METHOD:PUBLISH
X-WR-CALNAME:West Asheville Yoga
X-ORIGINAL-URL:https://www.westashevilleyoga.com
X-WR-CALDESC:Events for West Asheville Yoga
REFRESH-INTERVAL;VALUE=DURATION:PT1H
X-Robots-Tag:noindex
X-PUBLISHED-TTL:PT1H
BEGIN:VTIMEZONE
TZID:America/New_York
BEGIN:DAYLIGHT
TZOFFSETFROM:-0500
TZOFFSETTO:-0400
TZNAME:EDT
DTSTART:20240310T070000
END:DAYLIGHT
BEGIN:STANDARD
TZOFFSETFROM:-0400
TZOFFSETTO:-0500
TZNAME:EST
DTSTART:20241103T060000
END:STANDARD
END:VTIMEZONE
BEGIN:VEVENT
DTSTART;TZID=America/New_York:20240708T103000
DTEND;TZID=America/New_York:20240729T120000
DTSTAMP:20260421T110527
CREATED:20230430T183040Z
LAST-MODIFIED:20240702T151239Z
UID:5887-1720434600-1722254400@www.westashevilleyoga.com
SUMMARY:REGISTRATION CLOSED: Mindful Mornings- Kids Yoga (4 wk series)
DESCRIPTION:REGISTRATION FOR THIS EVENT IS CLOSED\n\nKids Yoga and Art Summer Camp: Mindful Mornings – Movement + Making (ages 3-8)\n\nJuly 8th\, 15th\, 22nd\, and 29th.\n10:30-12pm\nwith Emma Berger and Kim Drye\n$120 for 4 wk series\n\n\nJoin us for a transformative summer experience designed to engage children in mindful movement and creative expression. Our 4-week session on Mondays\, titled “Mindful Mornings – Movement + Making\,” will take place on July 8th\, 15th\, 22nd\, and 29th\, from 10:30 AM to 12:00 PM. Our dedicated instructors\, Emma Berger and Kim Drye\, will guide your children through an enriching journey of yoga and art. \nThrough the playful practice of yoga\, children will explore their bodies and breath\, fostering a sense of connection and presence. They will engage in creative movements\, incorporating yoga poses and storytelling. Guided meditations and imagery will be integrated into each session\, allowing children to delve deeper into their experiences. Moreover\, they will have the opportunity to express their emotions and sensations through art\, using a variety of materials to create tangible visual representations of their practice. \nOur camp also provides ample space for children to connect with one another\, fostering new friendships and a sense of community. In addition\, there will be guided free time for exploration and self-discovery. \nParents can drop off their children\, knowing they will be engaged in imaginative yoga sequences and mindful art-making under the gentle guidance of our experienced instructors. \nThe cost for the full 4-week series is $120. \nDon’t miss out on this incredible opportunity for your child to cultivate mindfulness\, creativity\, and connections. Enroll them in our Kids Yoga and Art Summer Camp today! \n\n$120 for 4 wk series
URL:https://www.westashevilleyoga.com/event/mindful-mornings-kids-yoga-art-summer-camp-4-wk-series-with-emma-kim-drye2024/
LOCATION:West Asheville Yoga\, 602 Haywood Road\, Asheville\, NC\, 28806\, United States
CATEGORIES:Kids Yoga
ATTACH;FMTTYPE=image/jpeg:https://www.westashevilleyoga.com/wp-content/uploads/2023/04/151283008-1336661556690940-4553058203079657698-n.jpg
END:VEVENT
END:VCALENDAR