BEGIN:VCALENDAR
VERSION:2.0
PRODID:-//West Asheville Yoga - ECPv6.9.0//NONSGML v1.0//EN
CALSCALE:GREGORIAN
METHOD:PUBLISH
X-WR-CALNAME:West Asheville Yoga
X-ORIGINAL-URL:https://www.westashevilleyoga.com
X-WR-CALDESC:Events for West Asheville Yoga
REFRESH-INTERVAL;VALUE=DURATION:PT1H
X-Robots-Tag:noindex
X-PUBLISHED-TTL:PT1H
BEGIN:VTIMEZONE
TZID:America/New_York
BEGIN:DAYLIGHT
TZOFFSETFROM:-0500
TZOFFSETTO:-0400
TZNAME:EDT
DTSTART:20240310T070000
END:DAYLIGHT
BEGIN:STANDARD
TZOFFSETFROM:-0400
TZOFFSETTO:-0500
TZNAME:EST
DTSTART:20241103T060000
END:STANDARD
END:VTIMEZONE
BEGIN:VEVENT
DTSTART;TZID=America/New_York:20240429T180000
DTEND;TZID=America/New_York:20240930T190000
DTSTAMP:20260421T133802
CREATED:20240229T183129Z
LAST-MODIFIED:20240812T164052Z
UID:6901-1714413600-1727722800@www.westashevilleyoga.com
SUMMARY:[Outdoor] Yoga in the Park with Tara & Crista (Every Monday)
DESCRIPTION:Every Monday \nApril 29\,2024-September 30th\,2024 \n6:00-7:00pm \nMay we align our breath to sync with the beating of our hearts\, healing ourselves and this planet from the inside out. Wandering through this life we connect with the elements. Through the earth\, our breath\, and Yoga we ground deep in our roots. The air is wild\, free and full of possibility. Water nourishes our souls while reminding us to go with the flow. We ignite the fire of passion and light an awakening within\, becoming one with the elements and connecting under one sun. \nCo-taught by Tara Eschroender and Crista Rose of West Asheville Yoga. \n *This practice will take place in Montford Park. Exact location will be sent after registration. \n**In the case of rain\, you may use the class pass purchased for other WAY classes. \n***Use class schedule to register: \nClass Schedule – West Asheville Yoga
URL:https://www.westashevilleyoga.com/event/yoga-in-the-park-with-tara-and-crista-toaug26/
LOCATION:Montford Park\, 345 Montford Ave\, Asheville\, NC\, 28806\, United States
CATEGORIES:Yoga
ATTACH;FMTTYPE=image/jpeg:https://www.westashevilleyoga.com/wp-content/uploads/2024/02/Park-Yoga-scaled-1.jpg
END:VEVENT
BEGIN:VEVENT
DTSTART;TZID=America/New_York:20240804T191500
DTEND;TZID=America/New_York:20240804T204500
DTSTAMP:20260421T133802
CREATED:20240114T190937Z
LAST-MODIFIED:20240722T145205Z
UID:6743-1722798900-1722804300@www.westashevilleyoga.com
SUMMARY:Sound Bath & Gentle Flow with Mack and Xue
DESCRIPTION:August 4\,2024   7:15-8:45pm \nSliding Scale $20-$40 \nJoin Mackenzie McDonald Wilkins + Xue Lionstone for a gentle yoga flow that prepares your heart\, mind\, and body for deep relaxation to the live acoustic vibrations of gong\, singing bowls\, handpan\, native american flute\, harmonium\, and a variety of string and percussion instruments. Mack and Xue combine their instrumental talents into an epic meditative sound bath journey. 
URL:https://www.westashevilleyoga.com/event/sound-bath-gentle-flow-aug4/
LOCATION:West Asheville Yoga\, 602 Haywood Road\, Asheville\, NC\, 28806\, United States
CATEGORIES:Sound Healing,Yoga
ATTACH;FMTTYPE=image/jpeg:https://www.westashevilleyoga.com/wp-content/uploads/2024/01/sound.jpg
END:VEVENT
BEGIN:VEVENT
DTSTART;TZID=America/New_York:20240818T183000
DTEND;TZID=America/New_York:20240818T200000
DTSTAMP:20260421T133802
CREATED:20240520T152141Z
LAST-MODIFIED:20240520T152141Z
UID:7104-1724005800-1724011200@www.westashevilleyoga.com
SUMMARY:Yoga to Live Music with Tara Eschenroeder + Hope Griffin
DESCRIPTION:Yoga & Live Music with Tara Eschenroeder & Hope Griffin \nAugust 18\,2024 \n6:30-8:00pm \nHolding Space for the Pause \nCome on a journey of the senses\, moving alongside the living breath of music\n\nAllow yourself to reconnect to that sacred animal within\, ultimately reminding us how to simply BE – both on and off the yoga mat. \n\nJoin Hope and Tara as they come together once again\, and take you on a journey of the senses. While drinking in the sacred sounds of the music\, we take the ability to listen and to feel even deeper within. We tap into that intuitive sense of knowing; how and when to move and when to be still. \n\n\nInfused with poetry from her self-published collections  entitled Collecting Feathers\, Landing hOMe\, and Sacred Details\,  accompanied with WNC award winning musician\, Hope Griffin\, Tara will invite us to unapologetically pause on purpose and hold space for the sweetness that lies within the grace note.  It is in these moments of pause that we are able to put down the shaken up snow globe of life… visions that have become clouded are able to once again present themselves. It is in these moments of pause that we are able to put down what’s heavy and remember that we are held by the soil which we tread upon. Put it down dear one. You have permission to pause.\n\n\n\n  \nSliding Scale $30-$40 \n\n  \n**This is a special event\, not included with studio memberships**
URL:https://www.westashevilleyoga.com/event/yogatolivemusic-aug18/
LOCATION:West Asheville Yoga\, 602 Haywood Road\, Asheville\, NC\, 28806\, United States
CATEGORIES:Live Music,Yoga
ATTACH;FMTTYPE=image/jpeg:https://www.westashevilleyoga.com/wp-content/uploads/2022/05/Hope-Tara-Collage-II-scaled.jpg
END:VEVENT
BEGIN:VEVENT
DTSTART;TZID=America/New_York:20240819T190000
DTEND;TZID=America/New_York:20240819T210000
DTSTAMP:20260421T133802
CREATED:20240813T150922Z
LAST-MODIFIED:20240813T150922Z
UID:7238-1724094000-1724101200@www.westashevilleyoga.com
SUMMARY:Full Moon Circle: Yoga + Ritual (in person or virtual)
DESCRIPTION:Full Moon Circle \nDate: Monday\, Aug 19th\,2024 \n7-9pm \nThis is your invitation to join the Moon Circle at West Asheville Yoga. Facilitated by Sierra Hollister\, author of Moon Path Yoga\, these circles are held at each new moon and full moon and are open to all who wish to join. \nJust as the moon influences the waters of the world\, so too are we influenced. The wisdom of lunar awareness and consciousness Is both ancient as well as innate\, residing in our very bones and soul. The moon invites us to return to our true nature. \nMoon Circles offer in person attendance as well as virtual attendance. Pre-registration both guarantees your place and allows you to receive the moon letter prior to the circle. \nThe cost for attending moon classes is on a sliding scale\, $25-$35 \n**This is a special event\, not included with studio memberships**
URL:https://www.westashevilleyoga.com/event/full-moon-circle-aug19/
LOCATION:West Asheville Yoga\, 602 Haywood Road\, Asheville\, NC\, 28806\, United States
CATEGORIES:Kundalini,Meditation,Moon Circle,Sound Healing,Yoga
ATTACH;FMTTYPE=image/jpeg:https://www.westashevilleyoga.com/wp-content/uploads/2023/12/fullmoon1.jpg
END:VEVENT
BEGIN:VEVENT
DTSTART;TZID=America/New_York:20240824T160000
DTEND;TZID=America/New_York:20240824T173000
DTSTAMP:20260421T133802
CREATED:20240801T150803Z
LAST-MODIFIED:20240801T150803Z
UID:7221-1724515200-1724520600@www.westashevilleyoga.com
SUMMARY:Primal Rhythm Flow with Crista
DESCRIPTION:Primal Rhythm Flow with Crista Rose \nSaturday\, August 24\,2024 \n4:00-5:30pm \n\n‌Dive into an invigorating journey with “Primal Rhythm Flow\,” where yoga asana meets the pulsating energy of live drumming. This unique yoga session weaves together dynamic sequences and grounding postures\, synchronized with the primal beats of live percussion. Allow the rhythm to guide your movements\, connecting deeply with your inner strength and natural instincts. Perfect for all levels\, this immersive experience aims to awaken your spirit\, enhance your physicality\, and harmonize mind\, body\, and soul. Join us for a transformative practice that transcends the ordinary and taps into the essence of primal energy. Sound enhancements by Adrian and Ransey.
URL:https://www.westashevilleyoga.com/event/primal-rhythm-flow-with-crista/
LOCATION:West Asheville Yoga\, 602 Haywood Road\, Asheville\, NC\, 28806\, United States
CATEGORIES:Live Music,Yoga
ATTACH;FMTTYPE=image/png:https://www.westashevilleyoga.com/wp-content/uploads/2024/08/Primal-Rhythm-Flow-1.png
END:VEVENT
END:VCALENDAR