BEGIN:VCALENDAR
VERSION:2.0
PRODID:-//West Asheville Yoga - ECPv6.9.0//NONSGML v1.0//EN
CALSCALE:GREGORIAN
METHOD:PUBLISH
X-WR-CALNAME:West Asheville Yoga
X-ORIGINAL-URL:https://www.westashevilleyoga.com
X-WR-CALDESC:Events for West Asheville Yoga
REFRESH-INTERVAL;VALUE=DURATION:PT1H
X-Robots-Tag:noindex
X-PUBLISHED-TTL:PT1H
BEGIN:VTIMEZONE
TZID:America/New_York
BEGIN:DAYLIGHT
TZOFFSETFROM:-0500
TZOFFSETTO:-0400
TZNAME:EDT
DTSTART:20240310T070000
END:DAYLIGHT
BEGIN:STANDARD
TZOFFSETFROM:-0400
TZOFFSETTO:-0500
TZNAME:EST
DTSTART:20241103T060000
END:STANDARD
END:VTIMEZONE
BEGIN:VEVENT
DTSTART;TZID=America/New_York:20240429T180000
DTEND;TZID=America/New_York:20240930T190000
DTSTAMP:20260421T164341
CREATED:20240229T183129Z
LAST-MODIFIED:20240812T164052Z
UID:6901-1714413600-1727722800@www.westashevilleyoga.com
SUMMARY:[Outdoor] Yoga in the Park with Tara & Crista (Every Monday)
DESCRIPTION:Every Monday \nApril 29\,2024-September 30th\,2024 \n6:00-7:00pm \nMay we align our breath to sync with the beating of our hearts\, healing ourselves and this planet from the inside out. Wandering through this life we connect with the elements. Through the earth\, our breath\, and Yoga we ground deep in our roots. The air is wild\, free and full of possibility. Water nourishes our souls while reminding us to go with the flow. We ignite the fire of passion and light an awakening within\, becoming one with the elements and connecting under one sun. \nCo-taught by Tara Eschroender and Crista Rose of West Asheville Yoga. \n *This practice will take place in Montford Park. Exact location will be sent after registration. \n**In the case of rain\, you may use the class pass purchased for other WAY classes. \n***Use class schedule to register: \nClass Schedule – West Asheville Yoga
URL:https://www.westashevilleyoga.com/event/yoga-in-the-park-with-tara-and-crista-toaug26/
LOCATION:Montford Park\, 345 Montford Ave\, Asheville\, NC\, 28806\, United States
CATEGORIES:Yoga
ATTACH;FMTTYPE=image/jpeg:https://www.westashevilleyoga.com/wp-content/uploads/2024/02/Park-Yoga-scaled-1.jpg
END:VEVENT
BEGIN:VEVENT
DTSTART;TZID=America/New_York:20240704T100000
DTEND;TZID=America/New_York:20240704T113000
DTSTAMP:20260421T164341
CREATED:20240614T222349Z
LAST-MODIFIED:20240614T222421Z
UID:7125-1720087200-1720092600@www.westashevilleyoga.com
SUMMARY:Free Your Mind: Special 4th of July Flow with Kari + Hannah
DESCRIPTION:Free Your Mind Flow: Special 4th of July class with Kari Parker and Hannah Gallagher\nThursday\, July 4th 10-11:30am at West Asheville Yoga \nJoin us for a special collaborative “Free Your Mind” Fourth of July yoga flow class\, co-taught by the dynamic duo Kari Parker and Hannah Gallagher. Together\, they will guide you through an experience designed to celebrate freedom and inner peace. \nKari and Hannah will each bring their unique expertise to create a flowing sequence that encourages the release of tension\, the opening of your heart\, and the awakening of your spirit. As we move through this intentional flow\, you’ll be invited to explore your own “freedom of movement\,” practicing the sequence independently and discovering your personal rhythm. \nAfter the invigorating flow\, Hannah will lead a soothing cool-down and relaxation session\, helping you integrate the practice and find deep calm. Meanwhile\, Kari will offer the healing touch of Reiki\, providing an additional layer of relaxation and energy balancing. \nThis class is suitable for all levels and is the perfect way to honor Independence Day by fostering a sense of personal freedom and connection. Come prepared to flow\, let go\, and celebrate the freedom within!
URL:https://www.westashevilleyoga.com/event/free-your-mind-special-4th-of-july-flow-with-kari-hannah/
LOCATION:West Asheville Yoga\, 602 Haywood Road\, Asheville\, NC\, 28806\, United States
CATEGORIES:Yoga
ATTACH;FMTTYPE=image/jpeg:https://www.westashevilleyoga.com/wp-content/uploads/2024/06/image0-2.jpeg
END:VEVENT
BEGIN:VEVENT
DTSTART;TZID=America/New_York:20240707T191500
DTEND;TZID=America/New_York:20240707T204500
DTSTAMP:20260421T164341
CREATED:20240112T163741Z
LAST-MODIFIED:20240614T191022Z
UID:6740-1720379700-1720385100@www.westashevilleyoga.com
SUMMARY:Sound Bath & Gentle Flow with Mack and Bryan
DESCRIPTION:July 7\,2024   7:15-8:45pm \nSliding Scale $20-$40 \nJoin Mackenzie McDonald Wilkins + Bryan Valone for a gentle yoga flow that prepares your heart\, mind\, and body for deep relaxation to the live acoustic vibrations of gong\, singing bowls\, handpan\, native american flute\, harmonium\, and a variety of string and percussion instruments. Mack and Bryan combine their instrumental talents into an epic meditative sound bath journey.  \nCheck out WLOS’s feature of this event here.
URL:https://www.westashevilleyoga.com/event/sound-bath-gentle-flow-july7/
LOCATION:West Asheville Yoga\, 602 Haywood Road\, Asheville\, NC\, 28806\, United States
CATEGORIES:Sound Healing,Yoga
ATTACH;FMTTYPE=image/jpeg:https://www.westashevilleyoga.com/wp-content/uploads/2024/01/03CE4305-A89D-44A0-97B0-BB825EBBCC57.jpg
END:VEVENT
BEGIN:VEVENT
DTSTART;TZID=America/New_York:20240721T190000
DTEND;TZID=America/New_York:20240721T210000
DTSTAMP:20260421T164341
CREATED:20231209T173005Z
LAST-MODIFIED:20231209T173005Z
UID:6609-1721588400-1721595600@www.westashevilleyoga.com
SUMMARY:Full Moon Circle with Sierra Hollister: Yoga + Ritual (in person or virtual)
DESCRIPTION:Date: Sunday\, July 21\,2024 \n7-9pm \nThis is your invitation to join the Moon Circle at West Asheville Yoga. Facilitated by Sierra Hollister\, author of Moon Path Yoga\, these circles are held at each new moon and full moon and are open to all who wish to join. \nJust as the moon influences the waters of the world\, so too are we influenced. The wisdom of lunar awareness and consciousness Is both ancient as well as innate\, residing in our very bones and soul. The moon invites us to return to our true nature. \nMoon Circles offer in person attendance as well as virtual attendance. Pre-registration both guarantees your place and allows you to receive the moon letter prior to the circle. \nThe cost for attending moon classes is on a sliding scale\, $25-$35 \n**This is a special event\, not included with studio memberships**
URL:https://www.westashevilleyoga.com/event/full-moon-circle-jul21/
LOCATION:West Asheville Yoga\, 602 Haywood Road\, Asheville\, NC\, 28806\, United States
CATEGORIES:Kundalini,Meditation,Moon Circle,Sound Healing,Yoga
ATTACH;FMTTYPE=image/jpeg:https://www.westashevilleyoga.com/wp-content/uploads/2023/12/fullmoon1.jpg
END:VEVENT
END:VCALENDAR