BEGIN:VCALENDAR
VERSION:2.0
PRODID:-//West Asheville Yoga - ECPv6.9.0//NONSGML v1.0//EN
CALSCALE:GREGORIAN
METHOD:PUBLISH
X-WR-CALNAME:West Asheville Yoga
X-ORIGINAL-URL:https://www.westashevilleyoga.com
X-WR-CALDESC:Events for West Asheville Yoga
REFRESH-INTERVAL;VALUE=DURATION:PT1H
X-Robots-Tag:noindex
X-PUBLISHED-TTL:PT1H
BEGIN:VTIMEZONE
TZID:America/New_York
BEGIN:DAYLIGHT
TZOFFSETFROM:-0500
TZOFFSETTO:-0400
TZNAME:EDT
DTSTART:20190310T070000
END:DAYLIGHT
BEGIN:STANDARD
TZOFFSETFROM:-0400
TZOFFSETTO:-0500
TZNAME:EST
DTSTART:20191103T060000
END:STANDARD
END:VTIMEZONE
BEGIN:VEVENT
DTSTART;TZID=America/New_York:20190726T193000
DTEND;TZID=America/New_York:20190726T213000
DTSTAMP:20260421T171246
CREATED:20190628T185133Z
LAST-MODIFIED:20190628T185217Z
UID:4046-1564169400-1564176600@www.westashevilleyoga.com
SUMMARY:Rebirthing:  Clearing our Subconscious Stories\, a Post Eclipse Integration
DESCRIPTION:Join Ra Ma for an extended a special rebirthing meditation that will assist you in clearing your subconscious stories.  After the deep Kundalini meditation\, a long gong with heal and seal the practice.  We will reflect through the astrology of 2019 where we have been\, with the specific intention of integrating July’s Eclipse season and what we have learned about our selves.  All levels and all abilities are always welcome.  You will leave deeply relaxed\, refreshed and renewed.
URL:https://www.westashevilleyoga.com/event/rebirthing-clearing-our-subconscious-stories-a-post-eclipse-integration/
CATEGORIES:Kundalini,Meditation,Sound Healing,Yoga
ATTACH;FMTTYPE=image/jpeg:https://www.westashevilleyoga.com/wp-content/uploads/2019/06/abydos-hidden-temple-e1561747589400.jpg
END:VEVENT
BEGIN:VEVENT
DTSTART;TZID=America/New_York:20190719T190000
DTEND;TZID=America/New_York:20190719T210000
DTSTAMP:20260421T171246
CREATED:20190618T153651Z
LAST-MODIFIED:20190618T154027Z
UID:4029-1563562800-1563570000@www.westashevilleyoga.com
SUMMARY:Crystalized Elemental Consciousness
DESCRIPTION:Deep Meditation and Kundalini Technology \nwith Ra Ma and Steven \nJoin Steven and Ra Ma for a night of esoteric knowledge and elemental medicine as we attune to the the collective consciousness through Sa Ta Na Ma.  We will open the space with astrological insights\, warm ups\, breathwork\, mantra and deep meditation.   Our practice together will be sealed with a gong bath.  This journey will support your integration of July’s Eclipse portal.
URL:https://www.westashevilleyoga.com/event/crystalized-elemental-consciousness/
CATEGORIES:Kundalini,Meditation,Sound Healing
ATTACH;FMTTYPE=image/jpeg:https://www.westashevilleyoga.com/wp-content/uploads/2019/06/ra-ma-abydos-e1560872313948.jpg
END:VEVENT
BEGIN:VEVENT
DTSTART;TZID=America/New_York:20190615T183000
DTEND;TZID=America/New_York:20190615T200000
DTSTAMP:20260421T171246
CREATED:20190503T184902Z
LAST-MODIFIED:20190503T184902Z
UID:3903-1560623400-1560628800@www.westashevilleyoga.com
SUMMARY:Sound Session – with gentle restorative yoga
DESCRIPTION:Sound Session \nwith Tea Roman \nJune 15th\, 6:30pm-8:00pm \nCost: $20 advance ticket | $25 day of \nJoin us for ‘Sound Session’ by Tea Roman! \nRooted in an ancient approach to sound\, you will be guided through a combination of gentle restorative yoga incorporating powerful Tibetan Bowl frequencies and meditation with transcending bamboo flute vibrations.
URL:https://www.westashevilleyoga.com/event/sound-session-with-gentle-restorative-yoga/
CATEGORIES:Restorative,Sound Healing
END:VEVENT
BEGIN:VEVENT
DTSTART;TZID=America/New_York:20190614T193000
DTEND;TZID=America/New_York:20190614T213000
DTSTAMP:20260421T171246
CREATED:20190521T173007Z
LAST-MODIFIED:20190521T173638Z
UID:3994-1560540600-1560547800@www.westashevilleyoga.com
SUMMARY:Full Strawberry Sagittarius Moon Deep Meditation and Long Gong
DESCRIPTION:with Ra Ma \nCircle up with Ra Ma for an evening of astrological insights\, deep meditation and long gong as we prepare for the Sagittarius Full Moon of Truth.  All levels and all abilities are always welcome.
URL:https://www.westashevilleyoga.com/event/full-strawberry-sagittarius-moon-deep-meditation-and-long-gong/
CATEGORIES:Kundalini,Meditation,Sound Healing,Yoga
ATTACH;FMTTYPE=image/jpeg:https://www.westashevilleyoga.com/wp-content/uploads/2019/05/isis-temple-gate-2-e1558459765689.jpg
END:VEVENT
BEGIN:VEVENT
DTSTART;TZID=America/New_York:20190518T200000
DTEND;TZID=America/New_York:20190518T213000
DTSTAMP:20260421T171246
CREATED:20190503T191059Z
LAST-MODIFIED:20190515T150558Z
UID:3917-1558209600-1558215000@www.westashevilleyoga.com
SUMMARY:Full Flower Moon Meditation and Gong Bath with Ra Ma
DESCRIPTION:Join Ra Ma for an activation within the Full Flower Moon of Scorpio. You will receive cosmic insights\, a deep meditative experience and a long gong to heal and seal your nervous system. All levels and all abilities are welcome.
URL:https://www.westashevilleyoga.com/event/full-flower-moon-meditation-and-gong-bath-with-ra-ma/
CATEGORIES:Meditation,Sound Healing
ATTACH;FMTTYPE=image/jpeg:https://www.westashevilleyoga.com/wp-content/uploads/2019/05/gong-bath-ra-ma.jpg
END:VEVENT
END:VCALENDAR